BEGIN:VCALENDAR
VERSION:2.0
PRODID:-//L&#039;Atelier Gourmand du Bassin - ECPv6.15.20//NONSGML v1.0//EN
CALSCALE:GREGORIAN
METHOD:PUBLISH
X-WR-CALNAME:L&#039;Atelier Gourmand du Bassin
X-ORIGINAL-URL:https://ateliergourmanddubassin.fr
X-WR-CALDESC:Évènements pour L&#039;Atelier Gourmand du Bassin
REFRESH-INTERVAL;VALUE=DURATION:PT1H
X-Robots-Tag:noindex
X-PUBLISHED-TTL:PT1H
BEGIN:VTIMEZONE
TZID:UTC
BEGIN:STANDARD
TZOFFSETFROM:+0000
TZOFFSETTO:+0000
TZNAME:UTC
DTSTART:20250101T000000
END:STANDARD
END:VTIMEZONE
BEGIN:VEVENT
DTSTART;TZID=UTC:20260307T080000
DTEND;TZID=UTC:20260307T170000
DTSTAMP:20260424T142905
CREATED:20260105T140615Z
LAST-MODIFIED:20260105T140615Z
UID:833-1772870400-1772902800@ateliergourmanddubassin.fr
SUMMARY:Atelier privé
DESCRIPTION:
URL:https://ateliergourmanddubassin.fr/planning-cours/atelier-prive-6/
END:VEVENT
BEGIN:VEVENT
DTSTART;TZID=UTC:20260314T103000
DTEND;TZID=UTC:20260314T143000
DTSTAMP:20260424T142905
CREATED:20260217T104453Z
LAST-MODIFIED:20260223T102405Z
UID:855-1773484200-1773498600@ateliergourmanddubassin.fr
SUMMARY:Cours collectif\, thème Asiatique : Samoussas aux crevettes et Pad Thaï au poulet et crevettes 80€. Merci de me contacter pour vous inscrire ! 4 places dispo
DESCRIPTION:Réservation obligatoire !
URL:https://ateliergourmanddubassin.fr/planning-cours/cours-collectif-theme-asiatique-samoussas-aux-crevettes-et-pad-thai-au-poulet-et-crevettes-80e-merci-de-me-contacter-pour-vous-inscrire/
END:VEVENT
BEGIN:VEVENT
DTSTART;TZID=UTC:20260328T080000
DTEND;TZID=UTC:20260328T170000
DTSTAMP:20260424T142905
CREATED:20260217T103941Z
LAST-MODIFIED:20260217T103941Z
UID:853-1774684800-1774717200@ateliergourmanddubassin.fr
SUMMARY:Atelier privé
DESCRIPTION:Atelier privé
URL:https://ateliergourmanddubassin.fr/planning-cours/atelier-prive-7/
END:VEVENT
END:VCALENDAR