BEGIN:VCALENDAR
VERSION:2.0
PRODID:-//L&#039;Atelier Gourmand du Bassin - ECPv6.15.20//NONSGML v1.0//EN
CALSCALE:GREGORIAN
METHOD:PUBLISH
X-ORIGINAL-URL:https://ateliergourmanddubassin.fr
X-WR-CALDESC:Évènements pour L&#039;Atelier Gourmand du Bassin
REFRESH-INTERVAL;VALUE=DURATION:PT1H
X-Robots-Tag:noindex
X-PUBLISHED-TTL:PT1H
BEGIN:VTIMEZONE
TZID:UTC
BEGIN:STANDARD
TZOFFSETFROM:+0000
TZOFFSETTO:+0000
TZNAME:UTC
DTSTART:20250101T000000
END:STANDARD
END:VTIMEZONE
BEGIN:VEVENT
DTSTART;TZID=UTC:20260207T103000
DTEND;TZID=UTC:20260207T143000
DTSTAMP:20260424T160901
CREATED:20260119T102408Z
LAST-MODIFIED:20260119T103347Z
UID:843-1770460200-1770474600@ateliergourmanddubassin.fr
SUMMARY:Cours collectif\, thème Italie : Risotto aux champignons & lard\, Panna Cotta au citron & Limoncello. Merci de me contacter pour vous inscrire !
DESCRIPTION:Réservation obligatoire!
URL:https://ateliergourmanddubassin.fr/planning-cours/cours-collectif-theme-italie-risotto-aux-champignons-lard-panna-cotta-au-citron-limoncello-merci-de-me-contacter-pour-vous-inscrire/
END:VEVENT
BEGIN:VEVENT
DTSTART;TZID=UTC:20260228T103000
DTEND;TZID=UTC:20260228T143000
DTSTAMP:20260424T160901
CREATED:20260119T103036Z
LAST-MODIFIED:20260119T103209Z
UID:846-1772274600-1772289000@ateliergourmanddubassin.fr
SUMMARY:Cours collectif\, thème Maroc : Tajine de poulet aux citrons confits\, semoule aux épices douces\, en dessert salade d'oranges. Merci de me contacter pour vous inscrire !
DESCRIPTION:Réservation obligatoire !
URL:https://ateliergourmanddubassin.fr/planning-cours/cours-collectif-theme-maroc-tajine-de-poulet-citron-confit-semoule-aux-epices-douces-en-dessert-salade-doranges-merci-de-me-contacter-pour-vous-inscrire/
END:VEVENT
END:VCALENDAR