BEGIN:VCALENDAR
VERSION:2.0
PRODID:-//L&#039;Atelier Gourmand du Bassin - ECPv6.15.20//NONSGML v1.0//EN
CALSCALE:GREGORIAN
METHOD:PUBLISH
X-WR-CALNAME:L&#039;Atelier Gourmand du Bassin
X-ORIGINAL-URL:https://ateliergourmanddubassin.fr
X-WR-CALDESC:Évènements pour L&#039;Atelier Gourmand du Bassin
REFRESH-INTERVAL;VALUE=DURATION:PT1H
X-Robots-Tag:noindex
X-PUBLISHED-TTL:PT1H
BEGIN:VTIMEZONE
TZID:UTC
BEGIN:STANDARD
TZOFFSETFROM:+0000
TZOFFSETTO:+0000
TZNAME:UTC
DTSTART:20250101T000000
END:STANDARD
END:VTIMEZONE
BEGIN:VEVENT
DTSTART;TZID=UTC:20260425T103000
DTEND;TZID=UTC:20260425T143000
DTSTAMP:20260422T170533
CREATED:20260302T142551Z
LAST-MODIFIED:20260415T092846Z
UID:863-1777113000-1777127400@ateliergourmanddubassin.fr
SUMMARY:Cours collectif\, thème Asiatique : Rouleaux de printemps aux crevettes\, poulet au Satay et riz Cantonais. Merci de me contacter pour vous inscrire !
DESCRIPTION:Réservation obligatoire !
URL:https://ateliergourmanddubassin.fr/planning-cours/cours-collectif-theme-a-venir-3/
END:VEVENT
END:VCALENDAR